BEGIN:VCALENDAR
VERSION:2.0
PRODID:-//wp-events-plugin.com//7.2.3.1//EN
TZID:Europe/Amsterdam
X-WR-TIMEZONE:Europe/Amsterdam
BEGIN:VEVENT
UID:9@anonieme-overeters.nl
DTSTART;TZID=Europe/Amsterdam:20260425T000000
DTEND;TZID=Europe/Amsterdam:20260426T000000
DTSTAMP:20260204T104948Z
URL:https://www.anonieme-overeters.nl/evenementen
 agenda/body-image-retreat/
SUMMARY:Body Image Retreat
DESCRIPTION:\n\nPDF met aanklikbare links: PDF Body Image Retreat - Uitnodi
 ging - 2. \n\nHet Body Image Retreat vindt plaats op 25-26 aril in Soest.
  Je kunt lid worden van een whatsapp groep voor updates vanuit de organisa
 tie\, klik hiervoor op deze link.\n\nVoor extra informatie: Informatie pa
 kket - Body Image Retreat april-2026
ATTACH;FMTTYPE=image/jpeg:https://www.anonieme-overeters.nl/wp-content/upl
 oads/bir-image.png
CATEGORIES:Retreat
LOCATION:soest\, Ntb\, Soest\, 
X-APPLE-STRUCTURED-LOCATION;VALUE=URI;X-ADDRESS=Ntb\, Soest\, ;X-APPLE-RADI
 US=100;X-TITLE=soest:geo:0,0
END:VEVENT
BEGIN:VTIMEZONE
TZID:Europe/Amsterdam
X-LIC-LOCATION:Europe/Amsterdam
BEGIN:DAYLIGHT
DTSTART:20260329T030000
TZOFFSETFROM:+0100
TZOFFSETTO:+0200
TZNAME:CEST
END:DAYLIGHT
END:VTIMEZONE
END:VCALENDAR