BEGIN:VCALENDAR
VERSION:2.0
PRODID:-//wp-events-plugin.com//7.2.3.1//EN
TZID:Europe/Amsterdam
X-WR-TIMEZONE:Europe/Amsterdam
BEGIN:VEVENT
UID:11@anonieme-overeters.nl
DTSTART;TZID=Europe/Amsterdam:20260918T000000
DTEND;TZID=Europe/Amsterdam:20260920T000000
DTSTAMP:20260303T164400Z
URL:https://www.anonieme-overeters.nl/evenementen
 agenda/bacharach-retreat/
SUMMARY:Bacharach Retreat
DESCRIPTION:Het volgende Bacharach retreat zal plaatsvinden van 18-20 septe
 mber in kasteel Stahleck in Bacharach.\n\n\n\nBacharach - Save the Date fl
 yer 2026
ATTACH;FMTTYPE=image/jpeg:https://www.anonieme-overeters.nl/wp-content/upl
 oads/Bacharach-Save-the-Date-flyer-2026-pdf.jpg
CATEGORIES:Retreat
LOCATION:Burg Stahleck\, Burg Stahleck\, Bacharach\, 55422\, Duitsland
X-APPLE-STRUCTURED-LOCATION;VALUE=URI;X-ADDRESS=Burg Stahleck\, Bacharach\,
  55422\, Duitsland;X-APPLE-RADIUS=100;X-TITLE=Burg Stahleck:geo:0,0
END:VEVENT
BEGIN:VTIMEZONE
TZID:Europe/Amsterdam
X-LIC-LOCATION:Europe/Amsterdam
BEGIN:DAYLIGHT
DTSTART:20260329T030000
TZOFFSETFROM:+0100
TZOFFSETTO:+0200
TZNAME:CEST
END:DAYLIGHT
END:VTIMEZONE
END:VCALENDAR